BEGIN:VCALENDAR
VERSION:2.0
PRODID:-//ChamberMaster//Event Calendar 2.0//EN
METHOD:PUBLISH
X-PUBLISHED-TTL:P3D
REFRESH-INTERVAL:P3D
CALSCALE:GREGORIAN
BEGIN:VEVENT
DTSTART;VALUE=DATE:20250426
DTEND;VALUE=DATE:20250427
TRANSP:TRANSPARENT
X-MICROSOFT-CDO-ALLDAYEVENT:TRUE
SUMMARY:17th Annual Spyder Surf Fest
DESCRIPTION:Spyder is giving back to the South Bay with the 17th Annual Spyder Surf Fest on April 26th in Hermosa Plaza! This epic celebration of surf culture features live music and local legends. More than just an event\, it is a tribute to the vibrant beach community and the sport that unites us all. Don't miss out on a day of waves\, music\, and South Bay stoke!
X-ALT-DESC;FMTTYPE=text/html:Spyder is giving back to the South Bay with the <strong>17th Annual Spyder Surf Fest</strong> on <strong>April 26th in Hermosa Plaza</strong>! This epic celebration of surf culture features live music and local legends. More than just an event\, it is a tribute to the vibrant beach community and the sport that unites us all. Don&#39\;t miss out on a day of waves\, music\, and South Bay stoke!
LOCATION:Hermosa Beach Pier Plaza
UID:e.2438.11474
SEQUENCE:3
DTSTAMP:20260422T210202Z
URL:https://business.hbchamber.net/events/details/17th-annual-spyder-surf-fest-11474
END:VEVENT

END:VCALENDAR
