BEGIN:VCALENDAR
VERSION:2.0
PRODID:-//ChamberMaster//Event Calendar 2.0//EN
METHOD:PUBLISH
X-PUBLISHED-TTL:P3D
REFRESH-INTERVAL:P3D
CALSCALE:GREGORIAN
BEGIN:VEVENT
DTSTART:20241208T180000Z
DTEND:20241208T233000Z
X-MICROSOFT-CDO-ALLDAYEVENT:FALSE
SUMMARY:16th Annual Santa Photos
DESCRIPTION:Santa Photos at Gum Tree Hermosa Sunday\, December 8 10:00am   3:30pm Guess who's coming to town? Gather the family and head down to Gum Tree Hermosa to take pics with Santa by Lana Imbagliazzo of Lana Lee Photography! Cost per photo is $20 cash (or $25 with credit card). Each participating family will be emailed their digital file a week after the event. All proceeds will be generously donated to HBEF & complimentary hot cocoa provided for the kids!
X-ALT-DESC;FMTTYPE=text/html:Santa Photos at Gum Tree Hermosa Sunday\, December 8 10:00am &ndash\; 3:30pm Guess who&rsquo\;s coming to town? Gather the family and head down to Gum Tree Hermosa to take pics with Santa by Lana Imbagliazzo of Lana Lee Photography! Cost per photo is $20 cash (or $25 with credit card). Each participating family will be emailed their digital file a week after the event. All proceeds will be generously donated to HBEF &amp\; complimentary hot cocoa provided for the kids!
LOCATION:Gum Tree 238 Pier Avenue Hermosa Beach\, CA 90254
UID:e.2438.10739
SEQUENCE:3
DTSTAMP:20260422T173216Z
URL:https://business.hbchamber.net/events/details/16th-annual-santa-photos-10739
END:VEVENT

END:VCALENDAR
