BEGIN:VCALENDAR
VERSION:2.0
PRODID:-//ChamberMaster//Event Calendar 2.0//EN
METHOD:PUBLISH
X-PUBLISHED-TTL:P3D
REFRESH-INTERVAL:P3D
CALSCALE:GREGORIAN
BEGIN:VEVENT
DTSTART:20231112T024500Z
DTEND:20231112T040000Z
X-MICROSOFT-CDO-ALLDAYEVENT:FALSE
SUMMARY:11/11 Powerful Portal: Yoga\, Reiki & Sound Bath Flow
DESCRIPTION:Yoga\, Reiki & Sound Bath Flow.\n\n\n\n Join Us for an Evening of Peace\, Love and light.\n\n\n\nExperience the stage of inner peace as we invite you to an evening of holistic healing and relaxation. Experience the tranquility of Yoga\, the gentle touch of Reiki\, and the harmonious vibrations of a Sound Bath while opening ourselves to receive the Divine light from the powerful spiritual 11:11 Portal. To embrace new beginnings\, to activate your manifestation potential\, to welcome transformation\, relaxation and promote well-being.\n\n\n\n\n\nDate: 11/11\n\n\n\nTime: 7pm. Please arrive 10 minutes before.\n\n\n\nLocation: Rooftop.\n\n\n\nAddress:\n\n\n\n200 Pier Avenue. Hermosa Beach CA.90254\n\n\n\n\n\nYoga Flow: Alex Kaye\, Lana Del Rey's choreographer & dancer\, and yoga instructor will guide you through a serene and powerful yoga flow. Connect with your body\, mind\, and spirit as you move through gentle poses and find your inner balance.\n\n\n\n\n\nReiki: Experience the profound healing energy of Reiki by Reiki Master Amaloa. Reiki guidance meditation to open the gateway to receive the powerful and transformational Divine light from de 11/11 Portal.\n\n\n\n\n\nSound Bath: Immerse yourself in the ethereal sounds of crystal bowls\, Tibetan gongs\, and other sacred instruments. Sound healer Cesar Levy will guide you on a meditative journey\, aligning your frequencies with the cosmic energies of the 11/11 portal.\n\n\n\n\n\nWhat to Bring:\n\n\n\nComfortable clothing for yoga\n\n\n\nYoga mat or towel\n\n\n\nBlanket.\n\n\n\nOpen heart and mind\n\n\n\n\n\nRefreshments: Cookies and tea will be served\, providing an opportunity to connect with beautiful souls and share your experiences.\n\n\n\n\n\nTo register follow the link bellow:\n\n\n\nhttps://www.amaloa.com/product/powerful-portal/178?cs=true&cst=custom
X-ALT-DESC;FMTTYPE=text/html:Yoga\, Reiki &amp\; Sound Bath Flow.<br />\n<br />\n&nbsp\;Join Us for an Evening of Peace\, Love and light.<br />\n<br />\nExperience the stage of inner peace as we invite you to an evening of holistic healing and relaxation. Experience the tranquility of Yoga\, the gentle touch of Reiki\, and the harmonious vibrations of a Sound Bath while opening ourselves to receive the Divine light from the powerful spiritual 11:11 Portal. To embrace new beginnings\, to activate your manifestation potential\, to welcome transformation\, relaxation and promote well-being.<br />\n<br />\n<br />\nDate: 11/11<br />\n<br />\nTime: 7pm. Please arrive 10 minutes before.<br />\n<br />\nLocation: Rooftop.<br />\n<br />\nAddress:<br />\n<br />\n200 Pier Avenue. Hermosa Beach CA.90254<br />\n<br />\n<br />\nYoga Flow: Alex Kaye\, Lana Del Rey&rsquo\;s choreographer &amp\; dancer\, and yoga instructor will guide you through a serene and powerful yoga flow. Connect with your body\, mind\, and spirit as you move through gentle poses and find your inner balance.<br />\n<br />\n<br />\nReiki: Experience the profound healing energy of Reiki by Reiki Master Amaloa. Reiki guidance meditation to open the gateway to receive the powerful and transformational Divine light from de 11/11 Portal.<br />\n<br />\n<br />\nSound Bath: Immerse yourself in the ethereal sounds of crystal bowls\, Tibetan gongs\, and other sacred instruments. Sound healer Cesar Levy will guide you on a meditative journey\, aligning your frequencies with the cosmic energies of the 11/11 portal.<br />\n<br />\n<br />\nWhat to Bring:<br />\n<br />\nComfortable clothing for yoga<br />\n<br />\nYoga mat or towel<br />\n<br />\nBlanket.<br />\n<br />\nOpen heart and mind<br />\n<br />\n<br />\nRefreshments: Cookies and tea will be served\, providing an opportunity to connect with beautiful souls and share your experiences.<br />\n<br />\n<br />\nTo register follow the link bellow:<br />\n<br />\nhttps://www.amaloa.com/product/powerful-portal/178?cs=true&amp\;cst=custom
LOCATION:200 Pier Avenue. Hermosa Beach CA.90254
UID:e.2438.9058
SEQUENCE:3
DTSTAMP:20260421T090901Z
URL:https://business.hbchamber.net/events/details/11-11-powerful-portal-yoga-reiki-sound-bath-flow-9058
END:VEVENT

END:VCALENDAR
