BEGIN:VCALENDAR
VERSION:2.0
PRODID:-//ChamberMaster//Event Calendar 2.0//EN
METHOD:PUBLISH
X-PUBLISHED-TTL:P3D
REFRESH-INTERVAL:P3D
CALSCALE:GREGORIAN
BEGIN:VEVENT
DTSTART;VALUE=DATE:20210605
DTEND;VALUE=DATE:20210606
TRANSP:TRANSPARENT
X-MICROSOFT-CDO-ALLDAYEVENT:TRUE
SUMMARY:The South Bay Paddle
DESCRIPTION:The South Bay Paddle is back! June 5th at Hermosa Pier. Short and long distant races to be held. The long distance race (15 miles) is a qualifier for the Catalina Classic to be held August 29th. Register on Paddleguru.com
X-ALT-DESC;FMTTYPE=text/html:The South Bay Paddle is back! June 5th at Hermosa Pier. Short and long distant races to be held. The long distance race (15 miles) is a qualifier for the Catalina Classic to be held August 29th. Register on Paddleguru.com
LOCATION:
UID:e.2438.4076
SEQUENCE:3
DTSTAMP:20260419T150331Z
URL:http://business.hbchamber.net/events/details/the-south-bay-paddle-4076
END:VEVENT

END:VCALENDAR
