BEGIN:VCALENDAR
VERSION:2.0
PRODID:-//ChamberMaster//Event Calendar 2.0//EN
METHOD:PUBLISH
X-PUBLISHED-TTL:P3D
REFRESH-INTERVAL:P3D
CALSCALE:GREGORIAN
BEGIN:VEVENT
DTSTART:20210602T190000Z
DTEND:20210602T200000Z
X-MICROSOFT-CDO-ALLDAYEVENT:FALSE
SUMMARY:SBDC WordPress Website Security Tips
DESCRIPTION:Building a website can be challenging enough\, but what about keeping it secure from malicious hackers\, spammers and spoofers? Join SBDC's Digital Marketing Consultant\, Darren Elliott\, as he shares 10 low to no cost measures you can do yourself\, to help protect your website and user data\, from winding up in the hands of a malicious attacker.  Register and reserve your place so you do not miss out on this informative and beneficial FREE webinar.\n\n\n\nRegister Now
X-ALT-DESC;FMTTYPE=text/html:<span style="color: rgb(49\, 49\, 49)\; font-family: &quot\;Proxima N W01 Light&quot\;\, Helvetica\, Arial\, sans-serif\; font-size: 18px\;"><span style="font-size:14px\;"><span style="font-family:arial\;">Building a website can be challenging enough\, but what about keeping it secure from malicious hackers\, spammers and spoofers? Join SBDC&rsquo\;s Digital Marketing Consultant\, Darren Elliott\, as he shares 10 low to no cost measures you can do yourself\, to help protect your website and user data\, from winding up in the hands of a malicious attacker.&nbsp\; Register and reserve your place so you do not miss out on this informative and beneficial FREE webinar.<br />\n<br />\n<a href="https://lasbdcnet.ecenterdirect.com/events/22868">Register Now</a></span></span></span>
LOCATION:
UID:e.2438.4248
SEQUENCE:3
DTSTAMP:20260425T152330Z
URL:http://business.hbchamber.net/events/details/sbdc-wordpress-website-security-tips-4248
END:VEVENT

END:VCALENDAR
