BEGIN:VCALENDAR
VERSION:2.0
PRODID:-//ChamberMaster//Event Calendar 2.0//EN
METHOD:PUBLISH
X-PUBLISHED-TTL:P3D
REFRESH-INTERVAL:P3D
CALSCALE:GREGORIAN
BEGIN:VEVENT
DTSTART:20211209T183000Z
DTEND:20211209T193000Z
X-MICROSOFT-CDO-ALLDAYEVENT:FALSE
SUMMARY:SBDC Webinar: Wealth Building Concepts and Financial Tools for Business Owners
DESCRIPTION:Are you ready for more business and revenue? This webinar will disclose three secrets on how to get free website traffic and place your company's website on the first page of Google.\n\nYou will learn:\n\n  How to use the right words in your content to attract the right\n\ncustomers\n\n  How to create a digital strategy that will work organically
X-ALT-DESC;FMTTYPE=text/html:<p style="box-sizing: border-box\; margin-top: 0px\; margin-bottom: 1.75em\; widows: 3\; orphans: 3\; color: rgb(20\, 20\, 20)\; font-family: Montserrat\, sans-serif\; font-size: 16px\;">Are you ready for more business and revenue? This webinar will disclose three secrets on how to get free website traffic and place your company&#39\;s website on the first page of Google.</p>\n\n<p style="box-sizing: border-box\; margin-top: 0px\; margin-bottom: 1.75em\; widows: 3\; orphans: 3\; color: rgb(20\, 20\, 20)\; font-family: Montserrat\, sans-serif\; font-size: 16px\;">You will learn:<br style="box-sizing: border-box\;" />\n&bull\; How to use the right words in your content to attract the right<br style="box-sizing: border-box\;" />\ncustomers<br style="box-sizing: border-box\;" />\n&bull\; How to create a digital strategy that will work organically</p>\n
LOCATION:Virtual\, REGISTER HERE.
UID:e.2438.4806
SEQUENCE:3
DTSTAMP:20260421T102924Z
URL:http://business.hbchamber.net/events/details/sbdc-webinar-wealth-building-concepts-and-financial-tools-for-business-owners-4806
END:VEVENT

END:VCALENDAR
