BEGIN:VCALENDAR
VERSION:2.0
PRODID:-//ChamberMaster//Event Calendar 2.0//EN
METHOD:PUBLISH
X-PUBLISHED-TTL:P3D
REFRESH-INTERVAL:P3D
CALSCALE:GREGORIAN
BEGIN:VEVENT
DTSTART:20210601T170000Z
DTEND:20210601T180000Z
X-MICROSOFT-CDO-ALLDAYEVENT:FALSE
SUMMARY:SBDC How To Start Your Business
DESCRIPTION:Learn to start\, run and grow your business. This workshop covers critical topics such as business development\, market research\, business entities and so much more. Don't waste another minute\, join us in learning how to bring your entrepreneurial idea to life.\n\n\n\nRegister Now
X-ALT-DESC;FMTTYPE=text/html:<span style="color: rgb(49\, 49\, 49)\; font-family: &quot\;Proxima N W01 Light&quot\;\, Helvetica\, Arial\, sans-serif\; font-size: 18px\;"><span style="font-size:14px\;"><span style="font-family:arial\;">Learn to start\, run and grow your business. This workshop covers critical topics such as business development\, market research\, business entities and so much more. Don&rsquo\;t waste another minute\, join us in learning how to bring your entrepreneurial idea to life.<br />\n<br />\n<a href="https://lasbdcnet.ecenterdirect.com/events/22777">Register Now</a></span></span></span>
LOCATION:
UID:e.2438.4242
SEQUENCE:3
DTSTAMP:20260419T144352Z
URL:http://business.hbchamber.net/events/details/sbdc-how-to-start-your-business-4242
END:VEVENT

END:VCALENDAR
